BEGIN:VCALENDAR
VERSION:2.0
PRODID:-//lincolnikes.com//NONSGML kigkonsult.se iCalcreator 2.30.10//
CALSCALE:GREGORIAN
METHOD:PUBLISH
UID:16580cbe-1455-494f-bb51-da788dd7bd8c
X-WR-CALDESC:
X-WR-RELCALID:8d13486f4b51c4435bbd72c0b7f38712
X-WR-TIMEZONE:America/Chicago
BEGIN:VTIMEZONE
TZID:America/Chicago
BEGIN:STANDARD
TZNAME:CST
DTSTART:20211107T020000
TZOFFSETFROM:-0500
TZOFFSETTO:-0600
RDATE:20221106T020000
END:STANDARD
BEGIN:DAYLIGHT
TZNAME:CDT
DTSTART:20210314T020000
TZOFFSETFROM:-0600
TZOFFSETTO:-0500
RDATE:20220313T020000
RDATE:20230312T020000
END:DAYLIGHT
END:VTIMEZONE
BEGIN:VEVENT
UID:f88cef09-4093-4d62-a724-cc1d7d71497e
DTSTAMP:20260425T031517Z
DESCRIPTION:
DTSTART;TZID=America/Chicago:20220308T183000
DTEND;TZID=America/Chicago:20220308T191500
LOCATION:
SUMMARY:Corporate Board of Directors Meeting (Clubhouse)
END:VEVENT
END:VCALENDAR
