BEGIN:VCALENDAR
VERSION:2.0
PRODID:-//lincolnikes.com//NONSGML kigkonsult.se iCalcreator 2.30.10//
CALSCALE:GREGORIAN
METHOD:PUBLISH
UID:60794afb-aa27-4aa5-a057-ea318fcc2482
X-WR-CALDESC:
X-WR-RELCALID:7d26b9ca32e877de66d0855beacc3a8a
X-WR-TIMEZONE:America/Chicago
BEGIN:VTIMEZONE
TZID:America/Chicago
BEGIN:STANDARD
TZNAME:CST
DTSTART:20211107T020000
TZOFFSETFROM:-0500
TZOFFSETTO:-0600
RDATE:20221106T020000
END:STANDARD
BEGIN:DAYLIGHT
TZNAME:CDT
DTSTART:20210314T020000
TZOFFSETFROM:-0600
TZOFFSETTO:-0500
RDATE:20220313T020000
RDATE:20230312T020000
END:DAYLIGHT
END:VTIMEZONE
BEGIN:VEVENT
UID:8d94cfc0-78fa-4b95-9cf8-82006bbf9f76
DTSTAMP:20260425T025941Z
DESCRIPTION:
DTSTART;TZID=America/Chicago:20220312T120000
DTEND;TZID=America/Chicago:20220312T170000
LOCATION:Lincoln Ikes Rifle Range 4
SUMMARY:12:00 noon - Sunset: Bowling Pin Match (Range 4) (Bennett)
END:VEVENT
END:VCALENDAR
