BEGIN:VCALENDAR
VERSION:2.0
PRODID:-//lincolnikes.com//NONSGML kigkonsult.se iCalcreator 2.30.10//
CALSCALE:GREGORIAN
METHOD:PUBLISH
UID:568a72cb-770c-4e88-97eb-1893d65103c8
X-WR-CALDESC:
X-WR-RELCALID:28bb90c5a4ca4bb0410a6d0fee0d2f5b
X-WR-TIMEZONE:America/Chicago
BEGIN:VTIMEZONE
TZID:America/Chicago
BEGIN:STANDARD
TZNAME:CST
DTSTART:20211107T020000
TZOFFSETFROM:-0500
TZOFFSETTO:-0600
RDATE:20221106T020000
END:STANDARD
BEGIN:DAYLIGHT
TZNAME:CDT
DTSTART:20220313T020000
TZOFFSETFROM:-0600
TZOFFSETTO:-0500
RDATE:20230312T020000
END:DAYLIGHT
END:VTIMEZONE
BEGIN:VEVENT
UID:a1241449-1513-41fc-9f03-c910b5de2c1b
DTSTAMP:20260425T025651Z
DESCRIPTION:
DTSTART;TZID=America/Chicago:20220315T170000
DTEND;TZID=America/Chicago:20220315T193000
LOCATION:
SUMMARY:5p-Sunset: Members 300-Yard Range Practice
END:VEVENT
END:VCALENDAR
