BEGIN:VCALENDAR
VERSION:2.0
PRODID:-//lincolnikes.com//NONSGML kigkonsult.se iCalcreator 2.30.10//
CALSCALE:GREGORIAN
METHOD:PUBLISH
UID:3ca7f67c-be89-4c29-bebb-652775041197
X-WR-CALDESC:
X-WR-RELCALID:c765b8a4bd7916099cacfede2bb0df89
X-WR-TIMEZONE:America/Chicago
BEGIN:VTIMEZONE
TZID:America/Chicago
BEGIN:STANDARD
TZNAME:CST
DTSTART:20211107T020000
TZOFFSETFROM:-0500
TZOFFSETTO:-0600
RDATE:20221106T020000
END:STANDARD
BEGIN:DAYLIGHT
TZNAME:CDT
DTSTART:20220313T020000
TZOFFSETFROM:-0600
TZOFFSETTO:-0500
RDATE:20230312T020000
END:DAYLIGHT
END:VTIMEZONE
BEGIN:VEVENT
UID:31ba803e-352d-4507-b04c-43858493c7da
DTSTAMP:20260425T031044Z
DESCRIPTION:
DTSTART;TZID=America/Chicago:20220316T153000
DTEND;TZID=America/Chicago:20220316T183000
LOCATION:
SUMMARY:High School Trap Teams Practice (All Traps & Clubhouse)
END:VEVENT
END:VCALENDAR
