BEGIN:VCALENDAR
VERSION:2.0
PRODID:-//lincolnikes.com//NONSGML kigkonsult.se iCalcreator 2.30.10//
CALSCALE:GREGORIAN
METHOD:PUBLISH
UID:d248e37a-17c1-46d0-8ae5-9de8854ce09d
X-WR-CALDESC:
X-WR-RELCALID:833bb38f55b5c7dc732a4de3c6244410
X-WR-TIMEZONE:America/Chicago
BEGIN:VTIMEZONE
TZID:America/Chicago
BEGIN:STANDARD
TZNAME:CST
DTSTART:20211107T020000
TZOFFSETFROM:-0500
TZOFFSETTO:-0600
RDATE:20221106T020000
END:STANDARD
BEGIN:DAYLIGHT
TZNAME:CDT
DTSTART:20220313T020000
TZOFFSETFROM:-0600
TZOFFSETTO:-0500
RDATE:20230312T020000
END:DAYLIGHT
END:VTIMEZONE
BEGIN:VEVENT
UID:4111d3e5-94e2-4a03-b4d8-f928de640503
DTSTAMP:20260425T030153Z
DESCRIPTION:
DTSTART;TZID=America/Chicago:20220320T080000
DTEND;TZID=America/Chicago:20220320T120000
LOCATION:
SUMMARY:IHMSA Indoor Air Pistol Silhouettes
END:VEVENT
END:VCALENDAR
