BEGIN:VCALENDAR
VERSION:2.0
PRODID:-//lincolnikes.com//NONSGML kigkonsult.se iCalcreator 2.30.10//
CALSCALE:GREGORIAN
METHOD:PUBLISH
UID:6b6ea5a9-693d-4097-8188-cd18a459e4ef
X-WR-CALDESC:
X-WR-RELCALID:7bef6e46dce2f0233d9c69138dd01768
X-WR-TIMEZONE:America/Chicago
BEGIN:VTIMEZONE
TZID:America/Chicago
BEGIN:STANDARD
TZNAME:CST
DTSTART:20211107T020000
TZOFFSETFROM:-0500
TZOFFSETTO:-0600
RDATE:20221106T020000
END:STANDARD
BEGIN:DAYLIGHT
TZNAME:CDT
DTSTART:20220313T020000
TZOFFSETFROM:-0600
TZOFFSETTO:-0500
RDATE:20230312T020000
END:DAYLIGHT
END:VTIMEZONE
BEGIN:VEVENT
UID:58580a79-c60e-4aa5-88da-6447dd060e93
DTSTAMP:20260425T025744Z
DESCRIPTION:
DTSTART;TZID=America/Chicago:20220322T170000
DTEND;TZID=America/Chicago:20220322T194000
LOCATION:
SUMMARY:5p-Sunset: Members 300-Yard Range Practice
END:VEVENT
END:VCALENDAR
