BEGIN:VCALENDAR
VERSION:2.0
PRODID:-//lincolnikes.com//NONSGML kigkonsult.se iCalcreator 2.30.10//
CALSCALE:GREGORIAN
METHOD:PUBLISH
UID:c3a14677-e21b-4eb2-9c97-c7406e829790
X-WR-CALDESC:
X-WR-RELCALID:e0d8eef9df3bf5b5977093b38e80f4f4
X-WR-TIMEZONE:America/Chicago
BEGIN:VTIMEZONE
TZID:America/Chicago
BEGIN:STANDARD
TZNAME:CST
DTSTART:20211107T020000
TZOFFSETFROM:-0500
TZOFFSETTO:-0600
RDATE:20221106T020000
END:STANDARD
BEGIN:DAYLIGHT
TZNAME:CDT
DTSTART:20220313T020000
TZOFFSETFROM:-0600
TZOFFSETTO:-0500
RDATE:20230312T020000
END:DAYLIGHT
END:VTIMEZONE
BEGIN:VEVENT
UID:1787bb0b-da19-4ce5-81f1-464a8b5969fd
DTSTAMP:20260425T030958Z
DESCRIPTION:
DTSTART;TZID=America/Chicago:20220324T153000
DTEND;TZID=America/Chicago:20220324T183000
LOCATION:
SUMMARY:High School Trap Teams Practice (All Traps & Clubhouse)
END:VEVENT
END:VCALENDAR
