BEGIN:VCALENDAR
VERSION:2.0
PRODID:-//lincolnikes.com//NONSGML kigkonsult.se iCalcreator 2.30.10//
CALSCALE:GREGORIAN
METHOD:PUBLISH
UID:eab81d59-707c-4b84-af8c-8ab29a012913
X-WR-CALDESC:
X-WR-RELCALID:7c5d31f80f67da8625d1b51bd7d0a735
X-WR-TIMEZONE:America/Chicago
BEGIN:VTIMEZONE
TZID:America/Chicago
BEGIN:STANDARD
TZNAME:CST
DTSTART:20211107T020000
TZOFFSETFROM:-0500
TZOFFSETTO:-0600
RDATE:20221106T020000
END:STANDARD
BEGIN:DAYLIGHT
TZNAME:CDT
DTSTART:20220313T020000
TZOFFSETFROM:-0600
TZOFFSETTO:-0500
RDATE:20230312T020000
END:DAYLIGHT
END:VTIMEZONE
BEGIN:VEVENT
UID:995ab6b6-6953-4881-b807-eae3ea29e399
DTSTAMP:20260425T025454Z
DESCRIPTION:
DTSTART;TZID=America/Chicago:20220327T180000
DTEND;TZID=America/Chicago:20220327T200000
LOCATION:
SUMMARY:Range 2 CLOSED FOR MAINTENANCE
END:VEVENT
END:VCALENDAR
