BEGIN:VCALENDAR
VERSION:2.0
PRODID:-//lincolnikes.com//NONSGML kigkonsult.se iCalcreator 2.30.10//
CALSCALE:GREGORIAN
METHOD:PUBLISH
UID:5fc3e2c5-e270-4d5c-829f-d046bc4ebeb7
X-WR-CALDESC:
X-WR-RELCALID:1ee1e8daec0b95eddafdb8405a07f7b3
X-WR-TIMEZONE:America/Chicago
BEGIN:VTIMEZONE
TZID:America/Chicago
BEGIN:STANDARD
TZNAME:CST
DTSTART:20211107T020000
TZOFFSETFROM:-0500
TZOFFSETTO:-0600
RDATE:20221106T020000
END:STANDARD
BEGIN:DAYLIGHT
TZNAME:CDT
DTSTART:20220313T020000
TZOFFSETFROM:-0600
TZOFFSETTO:-0500
RDATE:20230312T020000
END:DAYLIGHT
END:VTIMEZONE
BEGIN:VEVENT
UID:5b45f3f1-2a7e-4c03-9822-e28f09de72a6
DTSTAMP:20260425T030141Z
DESCRIPTION:
DTSTART;TZID=America/Chicago:20220328T000000
DTEND;TZID=America/Chicago:20220331T235900
LOCATION:
SUMMARY:RIFLE & PISTOL RANGES CLOSED FOR MAINTENANCE (Ranges 1 & 3 Only Ope
 n at 5:30 p.m. - Sunset)
END:VEVENT
END:VCALENDAR
