BEGIN:VCALENDAR
VERSION:2.0
PRODID:-//lincolnikes.com//NONSGML kigkonsult.se iCalcreator 2.30.10//
CALSCALE:GREGORIAN
METHOD:PUBLISH
UID:2253f38c-52dc-4c3d-898f-1121276573ec
X-WR-CALDESC:
X-WR-RELCALID:faca2f690f33b0420ece4656ead9b336
X-WR-TIMEZONE:America/Chicago
BEGIN:VTIMEZONE
TZID:America/Chicago
BEGIN:STANDARD
TZNAME:CST
DTSTART:20211107T020000
TZOFFSETFROM:-0500
TZOFFSETTO:-0600
RDATE:20221106T020000
END:STANDARD
BEGIN:DAYLIGHT
TZNAME:CDT
DTSTART:20220313T020000
TZOFFSETFROM:-0600
TZOFFSETTO:-0500
RDATE:20230312T020000
END:DAYLIGHT
END:VTIMEZONE
BEGIN:VEVENT
UID:fe1bb2a8-703e-476b-a2ef-753a47576bd2
DTSTAMP:20260425T025621Z
DESCRIPTION:
DTSTART;TZID=America/Chicago:20220329T170000
DTEND;TZID=America/Chicago:20220329T194500
LOCATION:
SUMMARY:5p-Sunset: Members 300-Yard Range Practice
END:VEVENT
END:VCALENDAR
