BEGIN:VCALENDAR
VERSION:2.0
PRODID:-//lincolnikes.com//NONSGML kigkonsult.se iCalcreator 2.30.10//
CALSCALE:GREGORIAN
METHOD:PUBLISH
UID:c54750d1-7312-4068-8296-8c597e7e21e1
X-WR-CALDESC:
X-WR-RELCALID:a881c03b292d3ddcb5568889dfd8bc89
X-WR-TIMEZONE:America/Chicago
BEGIN:VTIMEZONE
TZID:America/Chicago
BEGIN:STANDARD
TZNAME:CST
DTSTART:20211107T020000
TZOFFSETFROM:-0500
TZOFFSETTO:-0600
RDATE:20221106T020000
END:STANDARD
BEGIN:DAYLIGHT
TZNAME:CDT
DTSTART:20220313T020000
TZOFFSETFROM:-0600
TZOFFSETTO:-0500
RDATE:20230312T020000
END:DAYLIGHT
END:VTIMEZONE
BEGIN:VEVENT
UID:d5ca5922-753b-43c2-be96-c9037ede1461
DTSTAMP:20260425T031206Z
DESCRIPTION:
DTSTART;TZID=America/Chicago:20220330T190000
DTEND;TZID=America/Chicago:20220330T200000
LOCATION:
SUMMARY:Rifle/Pistol Committee Meeting (Clubhouse)
END:VEVENT
END:VCALENDAR
