BEGIN:VCALENDAR
VERSION:2.0
PRODID:-//lincolnikes.com//NONSGML kigkonsult.se iCalcreator 2.30.10//
CALSCALE:GREGORIAN
METHOD:PUBLISH
UID:83326d2b-939e-4275-989d-9fe730b198a8
X-WR-CALDESC:http://www.shootectc.org/
X-WR-RELCALID:e2a5c9031fd19ad97eeadb670dc020cf
X-WR-TIMEZONE:America/Chicago
BEGIN:VTIMEZONE
TZID:America/Chicago
BEGIN:STANDARD
TZNAME:CST
DTSTART:20211107T020000
TZOFFSETFROM:-0500
TZOFFSETTO:-0600
RDATE:20221106T020000
END:STANDARD
BEGIN:DAYLIGHT
TZNAME:CDT
DTSTART:20220313T020000
TZOFFSETFROM:-0600
TZOFFSETTO:-0500
RDATE:20230312T020000
END:DAYLIGHT
END:VTIMEZONE
BEGIN:VEVENT
UID:cf9f7d5b-15ad-4acb-95bf-5b3c04fa13d1
DTSTAMP:20260425T011049Z
DESCRIPTION:http://www.shootectc.org/
DTSTART;TZID=America/Chicago:20220402T000000
DTEND;TZID=America/Chicago:20220402T235900
LOCATION:Lincoln Ikes Trap Range & Clubhouse
SUMMARY:Eastern Cornhusker Trapshooting Conference Meet (Trap Range & Clubh
 ouse)
END:VEVENT
END:VCALENDAR
