BEGIN:VCALENDAR
VERSION:2.0
PRODID:-//lincolnikes.com//NONSGML kigkonsult.se iCalcreator 2.30.10//
CALSCALE:GREGORIAN
METHOD:PUBLISH
UID:3a1e3459-5fe6-4e6b-895c-689fcac757a8
X-WR-CALDESC:
X-WR-RELCALID:386600238829c13c2c0109aab938d941
X-WR-TIMEZONE:America/Chicago
BEGIN:VTIMEZONE
TZID:America/Chicago
BEGIN:STANDARD
TZNAME:CST
DTSTART:20211107T020000
TZOFFSETFROM:-0500
TZOFFSETTO:-0600
RDATE:20221106T020000
END:STANDARD
BEGIN:DAYLIGHT
TZNAME:CDT
DTSTART:20220313T020000
TZOFFSETFROM:-0600
TZOFFSETTO:-0500
RDATE:20230312T020000
END:DAYLIGHT
END:VTIMEZONE
BEGIN:VEVENT
UID:769eb102-ac1f-4864-bfac-014e4814aaf4
DTSTAMP:20260425T011315Z
DESCRIPTION:
DTSTART;TZID=America/Chicago:20220409T120000
DTEND;TZID=America/Chicago:20220409T170000
LOCATION:Lincoln Ikes Rifle Range 4
SUMMARY:12:00 noon - Sunset: Bowling Pin Match (Range 4) (Bennett)
END:VEVENT
END:VCALENDAR
