BEGIN:VCALENDAR
VERSION:2.0
PRODID:-//lincolnikes.com//NONSGML kigkonsult.se iCalcreator 2.30.10//
CALSCALE:GREGORIAN
METHOD:PUBLISH
UID:74ec81bf-0746-4f4b-bb4e-817ba3e338f4
X-WR-CALDESC:
X-WR-RELCALID:2a00e4b33ca7b11c232799d3ffc1de6e
X-WR-TIMEZONE:America/Chicago
BEGIN:VTIMEZONE
TZID:America/Chicago
BEGIN:STANDARD
TZNAME:CST
DTSTART:20211107T020000
TZOFFSETFROM:-0500
TZOFFSETTO:-0600
RDATE:20221106T020000
END:STANDARD
BEGIN:DAYLIGHT
TZNAME:CDT
DTSTART:20220313T020000
TZOFFSETFROM:-0600
TZOFFSETTO:-0500
RDATE:20230312T020000
END:DAYLIGHT
END:VTIMEZONE
BEGIN:VEVENT
UID:6bd5ea2e-badd-4fc2-a1a8-557f65ffe7e6
DTSTAMP:20260425T012713Z
DESCRIPTION:
DTSTART;TZID=America/Chicago:20220410T080000
DTEND;TZID=America/Chicago:20220410T110000
LOCATION:
SUMMARY:IHMSA Indoor Air Pistol Silhouettes (Clubhouse) (Mundorf)
END:VEVENT
END:VCALENDAR
