BEGIN:VCALENDAR
VERSION:2.0
PRODID:-//lincolnikes.com//NONSGML kigkonsult.se iCalcreator 2.30.10//
CALSCALE:GREGORIAN
METHOD:PUBLISH
UID:ce68bc17-d717-4677-b0f1-3f71844ce530
X-WR-CALDESC:Weather permitting. If we have bad weather\, this practice tim
 e will be canceled. Feel free to call Rod to verify.
X-WR-RELCALID:50b78fb48b6f14a5df05b9fdd093276f
X-WR-TIMEZONE:America/Chicago
BEGIN:VTIMEZONE
TZID:America/Chicago
BEGIN:STANDARD
TZNAME:CST
DTSTART:20211107T020000
TZOFFSETFROM:-0500
TZOFFSETTO:-0600
RDATE:20221106T020000
END:STANDARD
BEGIN:DAYLIGHT
TZNAME:CDT
DTSTART:20220313T020000
TZOFFSETFROM:-0600
TZOFFSETTO:-0500
RDATE:20230312T020000
END:DAYLIGHT
END:VTIMEZONE
BEGIN:VEVENT
UID:82bc3a79-4d8a-441b-913c-4f66e14de573
DTSTAMP:20260425T010917Z
DESCRIPTION:Weather permitting. If we have bad weather\, this practice time
  will be canceled. Feel free to call Rod to verify.
DTSTART;TZID=America/Chicago:20220412T100000
DTEND;TZID=America/Chicago:20220412T130000
LOCATION:300-Yard / Rifle Range 4
SUMMARY:Members 300-Yard Range Practice
END:VEVENT
END:VCALENDAR
