BEGIN:VCALENDAR
VERSION:2.0
PRODID:-//lincolnikes.com//NONSGML kigkonsult.se iCalcreator 2.30.10//
CALSCALE:GREGORIAN
METHOD:PUBLISH
UID:bcfaf971-453c-4195-9f8d-91dda9eb1306
X-WR-CALDESC:
X-WR-RELCALID:96d3f0306598335e232084da62f5627b
X-WR-TIMEZONE:America/Chicago
BEGIN:VTIMEZONE
TZID:America/Chicago
BEGIN:STANDARD
TZNAME:CST
DTSTART:20211107T020000
TZOFFSETFROM:-0500
TZOFFSETTO:-0600
RDATE:20221106T020000
END:STANDARD
BEGIN:DAYLIGHT
TZNAME:CDT
DTSTART:20220313T020000
TZOFFSETFROM:-0600
TZOFFSETTO:-0500
RDATE:20230312T020000
END:DAYLIGHT
END:VTIMEZONE
BEGIN:VEVENT
UID:ff8c3305-3e03-4dd6-9cc6-1bb58724994e
DTSTAMP:20260425T010931Z
DESCRIPTION:
DTSTART;TZID=America/Chicago:20220412T170000
DTEND;TZID=America/Chicago:20220412T200000
LOCATION:
SUMMARY:5p-Sunset: Members 300-Yard Range Practice
END:VEVENT
END:VCALENDAR
