BEGIN:VCALENDAR
VERSION:2.0
PRODID:-//lincolnikes.com//NONSGML kigkonsult.se iCalcreator 2.30.10//
CALSCALE:GREGORIAN
METHOD:PUBLISH
UID:fae77a6c-c057-4ff3-9772-f8270ef922bd
X-WR-CALDESC:
X-WR-RELCALID:09a5f8f11fa6ff7c02782ca360d431d2
X-WR-TIMEZONE:America/Chicago
BEGIN:VTIMEZONE
TZID:America/Chicago
BEGIN:STANDARD
TZNAME:CST
DTSTART:20211107T020000
TZOFFSETFROM:-0500
TZOFFSETTO:-0600
RDATE:20221106T020000
END:STANDARD
BEGIN:DAYLIGHT
TZNAME:CDT
DTSTART:20220313T020000
TZOFFSETFROM:-0600
TZOFFSETTO:-0500
RDATE:20230312T020000
END:DAYLIGHT
END:VTIMEZONE
BEGIN:VEVENT
UID:3c155771-ca40-4aae-9a68-b0056d0beb76
DTSTAMP:20260425T011737Z
DESCRIPTION:
DTSTART;TZID=America/Chicago:20220412T180000
DTEND;TZID=America/Chicago:20220412T190000
LOCATION:Lincoln Ikes Clubhouse
SUMMARY:Youth Day Organizational Meeting (Clubhouse)
END:VEVENT
END:VCALENDAR
