BEGIN:VCALENDAR
VERSION:2.0
PRODID:-//lincolnikes.com//NONSGML kigkonsult.se iCalcreator 2.30.10//
CALSCALE:GREGORIAN
METHOD:PUBLISH
UID:50989df0-604c-4c4a-95ea-2bbda3137fb8
X-WR-CALDESC:*Range 4 is only open to our members during these special sche
 duled times.
X-WR-RELCALID:fcc8427de3b03e2320101e1225b9fa48
X-WR-TIMEZONE:America/Chicago
BEGIN:VTIMEZONE
TZID:America/Chicago
BEGIN:STANDARD
TZNAME:CST
DTSTART:20211107T020000
TZOFFSETFROM:-0500
TZOFFSETTO:-0600
RDATE:20221106T020000
END:STANDARD
BEGIN:DAYLIGHT
TZNAME:CDT
DTSTART:20220313T020000
TZOFFSETFROM:-0600
TZOFFSETTO:-0500
RDATE:20230312T020000
END:DAYLIGHT
END:VTIMEZONE
BEGIN:VEVENT
UID:5a208c85-781a-45c0-af76-a74bda716347
DTSTAMP:20260425T010840Z
DESCRIPTION:*Range 4 is only open to our members during these special sched
 uled times.
DTSTART;TZID=America/Chicago:20220413T130000
DTEND;TZID=America/Chicago:20220413T160000
LOCATION:Lincoln Ikes Rifle Range 4
SUMMARY:Members 300-Yard Range Practice (Range 4) (Hanson)
END:VEVENT
END:VCALENDAR
