BEGIN:VCALENDAR
VERSION:2.0
PRODID:-//lincolnikes.com//NONSGML kigkonsult.se iCalcreator 2.30.10//
CALSCALE:GREGORIAN
METHOD:PUBLISH
UID:358d8b00-95b3-4e1f-bd79-256f33a8a4b6
X-WR-CALDESC:Weather permitting. If we have bad weather\, this practice tim
 e will be canceled. Feel free to call Rod to verify.
X-WR-RELCALID:9b5da1635f0286d48d7624d550126757
X-WR-TIMEZONE:America/Chicago
BEGIN:VTIMEZONE
TZID:America/Chicago
BEGIN:STANDARD
TZNAME:CST
DTSTART:20211107T020000
TZOFFSETFROM:-0500
TZOFFSETTO:-0600
RDATE:20221106T020000
END:STANDARD
BEGIN:DAYLIGHT
TZNAME:CDT
DTSTART:20220313T020000
TZOFFSETFROM:-0600
TZOFFSETTO:-0500
RDATE:20230312T020000
END:DAYLIGHT
END:VTIMEZONE
BEGIN:VEVENT
UID:ab2b02a8-05b7-4c0c-be24-ca72e31e8244
DTSTAMP:20260425T010839Z
DESCRIPTION:Weather permitting. If we have bad weather\, this practice time
  will be canceled. Feel free to call Rod to verify.
DTSTART;TZID=America/Chicago:20220419T100000
DTEND;TZID=America/Chicago:20220419T130000
LOCATION:300-Yard / Rifle Range 4
SUMMARY:Members 300-Yard Range Practice
END:VEVENT
END:VCALENDAR
