BEGIN:VCALENDAR
VERSION:2.0
PRODID:-//lincolnikes.com//NONSGML kigkonsult.se iCalcreator 2.30.10//
CALSCALE:GREGORIAN
METHOD:PUBLISH
UID:57a62308-bd79-43fd-8fd1-dc596552a216
X-WR-CALDESC:
X-WR-RELCALID:8667026d204de3361f52e50dcc7997f1
X-WR-TIMEZONE:America/Chicago
BEGIN:VTIMEZONE
TZID:America/Chicago
BEGIN:STANDARD
TZNAME:CST
DTSTART:20211107T020000
TZOFFSETFROM:-0500
TZOFFSETTO:-0600
RDATE:20221106T020000
END:STANDARD
BEGIN:DAYLIGHT
TZNAME:CDT
DTSTART:20220313T020000
TZOFFSETFROM:-0600
TZOFFSETTO:-0500
RDATE:20230312T020000
END:DAYLIGHT
END:VTIMEZONE
BEGIN:VEVENT
UID:441ed67c-4929-4354-bdac-d81a4baac34c
DTSTAMP:20260425T010944Z
DESCRIPTION:
DTSTART;TZID=America/Chicago:20220419T170000
DTEND;TZID=America/Chicago:20220419T200000
LOCATION:
SUMMARY:5p-Sunset: Members 300-Yard Range Practice
END:VEVENT
END:VCALENDAR
