BEGIN:VCALENDAR
VERSION:2.0
PRODID:-//lincolnikes.com//NONSGML kigkonsult.se iCalcreator 2.30.10//
CALSCALE:GREGORIAN
METHOD:PUBLISH
UID:37609bde-d46f-448e-b2c3-d6a0f9d4cb28
X-WR-CALDESC:Our Clubhouse Office will be open during this time. If you hav
 e any questions or concerns\, please contact us at 402.474.6555 or ikes.li
 ncoln@gmail.com
X-WR-RELCALID:21044602d233d2a7607eb447608dfb22
X-WR-TIMEZONE:America/Chicago
BEGIN:VTIMEZONE
TZID:America/Chicago
BEGIN:STANDARD
TZNAME:CST
DTSTART:20211107T020000
TZOFFSETFROM:-0500
TZOFFSETTO:-0600
RDATE:20221106T020000
END:STANDARD
BEGIN:DAYLIGHT
TZNAME:CDT
DTSTART:20220313T020000
TZOFFSETFROM:-0600
TZOFFSETTO:-0500
RDATE:20230312T020000
END:DAYLIGHT
END:VTIMEZONE
BEGIN:VEVENT
UID:31683a13-96b3-4d1f-8b9a-5e0e70a686cb
DTSTAMP:20260425T011041Z
DESCRIPTION:Our Clubhouse Office will be open during this time. If you have
  any questions or concerns\, please contact us at 402.474.6555 or ikes.lin
 coln@gmail.com
DTSTART;TZID=America/Chicago:20220421T100000
DTEND;TZID=America/Chicago:20220421T140000
LOCATION:
SUMMARY:Clubhouse Office Open
END:VEVENT
END:VCALENDAR
