BEGIN:VCALENDAR
VERSION:2.0
PRODID:-//lincolnikes.com//NONSGML kigkonsult.se iCalcreator 2.30.10//
CALSCALE:GREGORIAN
METHOD:PUBLISH
UID:b1165abe-819b-4882-91d0-64f4d8b8e8ac
X-WR-CALDESC:
X-WR-RELCALID:43e1b87f74a203d5ea6dbdb3269112da
X-WR-TIMEZONE:America/Chicago
BEGIN:VTIMEZONE
TZID:America/Chicago
BEGIN:STANDARD
TZNAME:CST
DTSTART:20211107T020000
TZOFFSETFROM:-0500
TZOFFSETTO:-0600
RDATE:20221106T020000
END:STANDARD
BEGIN:DAYLIGHT
TZNAME:CDT
DTSTART:20220313T020000
TZOFFSETFROM:-0600
TZOFFSETTO:-0500
RDATE:20230312T020000
END:DAYLIGHT
END:VTIMEZONE
BEGIN:VEVENT
UID:7b948b36-2d55-4f78-b644-07138c2b075c
DTSTAMP:20260425T010739Z
DESCRIPTION:
DTSTART;TZID=America/Chicago:20220422T080000
DTEND;TZID=America/Chicago:20220422T170000
LOCATION:Lincoln Ikes Rifle Range 4
SUMMARY:NBRSA Match Setup & Pre-match Practice (Range 4) (Dewey)
END:VEVENT
END:VCALENDAR
