BEGIN:VCALENDAR
VERSION:2.0
PRODID:-//lincolnikes.com//NONSGML kigkonsult.se iCalcreator 2.30.10//
CALSCALE:GREGORIAN
METHOD:PUBLISH
UID:d514a4ff-ea3c-4345-bcef-504cca1be9a1
X-WR-CALDESC:
X-WR-RELCALID:e8ba656f94cefdcad2bdc1e95a87ec48
X-WR-TIMEZONE:America/Chicago
BEGIN:VTIMEZONE
TZID:America/Chicago
BEGIN:STANDARD
TZNAME:CST
DTSTART:20211107T020000
TZOFFSETFROM:-0500
TZOFFSETTO:-0600
RDATE:20221106T020000
END:STANDARD
BEGIN:DAYLIGHT
TZNAME:CDT
DTSTART:20220313T020000
TZOFFSETFROM:-0600
TZOFFSETTO:-0500
RDATE:20230312T020000
END:DAYLIGHT
END:VTIMEZONE
BEGIN:VEVENT
UID:b2b68046-f4fc-4348-a0c5-870f14731d50
DTSTAMP:20260425T011502Z
DESCRIPTION:
DTSTART;TZID=America/Chicago:20220423T070000
DTEND;TZID=America/Chicago:20220423T173000
LOCATION:Lincoln Ikes Rifle Range 1
SUMMARY:CANCELED Project Appleseed (Range 1 is now open to our R/P Members)
END:VEVENT
END:VCALENDAR
