BEGIN:VCALENDAR
VERSION:2.0
PRODID:-//lincolnikes.com//NONSGML kigkonsult.se iCalcreator 2.30.10//
CALSCALE:GREGORIAN
METHOD:PUBLISH
UID:46986cf7-db53-4287-b888-cc230f4b6409
X-WR-CALDESC:http://www.shootectc.org/
X-WR-RELCALID:3a15951a35986cb97dafbd106b7b4519
X-WR-TIMEZONE:America/Chicago
BEGIN:VTIMEZONE
TZID:America/Chicago
BEGIN:STANDARD
TZNAME:CST
DTSTART:20211107T020000
TZOFFSETFROM:-0500
TZOFFSETTO:-0600
RDATE:20221106T020000
END:STANDARD
BEGIN:DAYLIGHT
TZNAME:CDT
DTSTART:20220313T020000
TZOFFSETFROM:-0600
TZOFFSETTO:-0500
RDATE:20230312T020000
END:DAYLIGHT
END:VTIMEZONE
BEGIN:VEVENT
UID:68a06231-eacd-4071-a5f2-b7ff8f17f052
DTSTAMP:20260425T011113Z
DESCRIPTION:http://www.shootectc.org/
DTSTART;TZID=America/Chicago:20220423T000000
DTEND;TZID=America/Chicago:20220423T235900
LOCATION:Lincoln Ikes Trap Range & Clubhouse
SUMMARY:ECTC All Conference Juniors Trap Shoot (Trap Range & Clubhouse)
END:VEVENT
END:VCALENDAR
