BEGIN:VCALENDAR
VERSION:2.0
PRODID:-//lincolnikes.com//NONSGML kigkonsult.se iCalcreator 2.30.10//
CALSCALE:GREGORIAN
METHOD:PUBLISH
UID:786d554b-70da-4763-aa82-b7125b5acff7
X-WR-CALDESC:National Bench Rest Shooting Association (NBRSA) is the govern
 ing organization for bench rest shooting in the United States. For more in
 formation\, see www.nbrsa.org.
X-WR-RELCALID:8fed043035c2071fc1c67794a4587f02
X-WR-TIMEZONE:America/Chicago
BEGIN:VTIMEZONE
TZID:America/Chicago
BEGIN:STANDARD
TZNAME:CST
DTSTART:20211107T020000
TZOFFSETFROM:-0500
TZOFFSETTO:-0600
RDATE:20221106T020000
END:STANDARD
BEGIN:DAYLIGHT
TZNAME:CDT
DTSTART:20220313T020000
TZOFFSETFROM:-0600
TZOFFSETTO:-0500
RDATE:20230312T020000
END:DAYLIGHT
END:VTIMEZONE
BEGIN:VEVENT
UID:8affe9e7-3844-4840-ba81-c3a588055eac
DTSTAMP:20260425T011042Z
DESCRIPTION:National Bench Rest Shooting Association (NBRSA) is the governi
 ng organization for bench rest shooting in the United States. For more inf
 ormation\, see www.nbrsa.org.
DTSTART;TZID=America/Chicago:20220423T080000
DTEND;TZID=America/Chicago:20220423T170000
LOCATION:Lincoln Ikes Rifle Range 4
SUMMARY:NBRSA HTR/VFS 2 Gun Benchrest Match (Range 4) (Dewey)
END:VEVENT
END:VCALENDAR
