BEGIN:VCALENDAR
VERSION:2.0
PRODID:-//lincolnikes.com//NONSGML kigkonsult.se iCalcreator 2.30.10//
CALSCALE:GREGORIAN
METHOD:PUBLISH
UID:ed02143b-b70f-4f41-acfa-db3e86754ee1
X-WR-CALDESC:
X-WR-RELCALID:3876c256b9f7250759253a91e3d95017
X-WR-TIMEZONE:America/Chicago
BEGIN:VTIMEZONE
TZID:America/Chicago
BEGIN:STANDARD
TZNAME:CST
DTSTART:20211107T020000
TZOFFSETFROM:-0500
TZOFFSETTO:-0600
RDATE:20221106T020000
END:STANDARD
BEGIN:DAYLIGHT
TZNAME:CDT
DTSTART:20220313T020000
TZOFFSETFROM:-0600
TZOFFSETTO:-0500
RDATE:20230312T020000
END:DAYLIGHT
END:VTIMEZONE
BEGIN:VEVENT
UID:2adb7273-041e-4908-b2cd-9b4eba77ace3
DTSTAMP:20260425T010945Z
DESCRIPTION:
DTSTART;TZID=America/Chicago:20220424T080000
DTEND;TZID=America/Chicago:20220424T170000
LOCATION:Lincoln Ikes Rifle Range 4
SUMMARY:NBRSA HTR/VFS 2 Gun Benchrest Match (Range 4) (Dewey)
END:VEVENT
END:VCALENDAR
