BEGIN:VCALENDAR
VERSION:2.0
PRODID:-//lincolnikes.com//NONSGML kigkonsult.se iCalcreator 2.30.10//
CALSCALE:GREGORIAN
METHOD:PUBLISH
UID:040b6662-364b-49ed-a92c-b27d779b4845
X-WR-CALDESC:
X-WR-RELCALID:edc0680ec68f936e1dc8bd5071fa7139
X-WR-TIMEZONE:America/Chicago
BEGIN:VTIMEZONE
TZID:America/Chicago
BEGIN:STANDARD
TZNAME:CST
DTSTART:20211107T020000
TZOFFSETFROM:-0500
TZOFFSETTO:-0600
RDATE:20221106T020000
END:STANDARD
BEGIN:DAYLIGHT
TZNAME:CDT
DTSTART:20220313T020000
TZOFFSETFROM:-0600
TZOFFSETTO:-0500
RDATE:20230312T020000
END:DAYLIGHT
END:VTIMEZONE
BEGIN:VEVENT
UID:387419cb-17e9-4d01-84c7-9393781ae6da
DTSTAMP:20260425T011617Z
DESCRIPTION:
DTSTART;TZID=America/Chicago:20220425T153000
DTEND;TZID=America/Chicago:20220425T183000
LOCATION:
SUMMARY:High School Trap Teams Practice (All Traps & Clubhouse)
END:VEVENT
END:VCALENDAR
