BEGIN:VCALENDAR
VERSION:2.0
PRODID:-//lincolnikes.com//NONSGML kigkonsult.se iCalcreator 2.30.10//
CALSCALE:GREGORIAN
METHOD:PUBLISH
UID:b3484fdf-6bf5-406c-8696-3374d034d54a
X-WR-CALDESC:Weather permitting. If we have bad weather\, this practice tim
 e will be canceled. Feel free to call Rod to verify.
X-WR-RELCALID:d512da7abed9095c14989d9f782c2ffc
X-WR-TIMEZONE:America/Chicago
BEGIN:VTIMEZONE
TZID:America/Chicago
BEGIN:STANDARD
TZNAME:CST
DTSTART:20211107T020000
TZOFFSETFROM:-0500
TZOFFSETTO:-0600
RDATE:20221106T020000
END:STANDARD
BEGIN:DAYLIGHT
TZNAME:CDT
DTSTART:20220313T020000
TZOFFSETFROM:-0600
TZOFFSETTO:-0500
RDATE:20230312T020000
END:DAYLIGHT
END:VTIMEZONE
BEGIN:VEVENT
UID:0aff347b-3a4d-4938-b682-c0883837078a
DTSTAMP:20260425T010841Z
DESCRIPTION:Weather permitting. If we have bad weather\, this practice time
  will be canceled. Feel free to call Rod to verify.
DTSTART;TZID=America/Chicago:20220426T100000
DTEND;TZID=America/Chicago:20220426T130000
LOCATION:300-Yard / Rifle Range 4
SUMMARY:Members 300-Yard Range Practice
END:VEVENT
END:VCALENDAR
