BEGIN:VCALENDAR
VERSION:2.0
PRODID:-//lincolnikes.com//NONSGML kigkonsult.se iCalcreator 2.30.10//
CALSCALE:GREGORIAN
METHOD:PUBLISH
UID:0e1fad96-dd73-4d32-acce-3ed17e97912d
X-WR-CALDESC:
X-WR-RELCALID:a3c740fcd3509aead07bd88780959e05
X-WR-TIMEZONE:America/Chicago
BEGIN:VTIMEZONE
TZID:America/Chicago
BEGIN:STANDARD
TZNAME:CST
DTSTART:20211107T020000
TZOFFSETFROM:-0500
TZOFFSETTO:-0600
RDATE:20221106T020000
END:STANDARD
BEGIN:DAYLIGHT
TZNAME:CDT
DTSTART:20220313T020000
TZOFFSETFROM:-0600
TZOFFSETTO:-0500
RDATE:20230312T020000
END:DAYLIGHT
END:VTIMEZONE
BEGIN:VEVENT
UID:b8c984d5-a632-4514-bfa4-40fb5cc8fbdb
DTSTAMP:20260425T011912Z
DESCRIPTION:
DTSTART;TZID=America/Chicago:20220427T190000
DTEND;TZID=America/Chicago:20220427T200000
LOCATION:
SUMMARY:Rifle/Pistol Committee Meeting (Clubhouse)
END:VEVENT
END:VCALENDAR
