BEGIN:VCALENDAR
VERSION:2.0
PRODID:-//lincolnikes.com//NONSGML kigkonsult.se iCalcreator 2.30.10//
CALSCALE:GREGORIAN
METHOD:PUBLISH
UID:20a0d55e-3001-4195-b36f-6b4146d6d64e
X-WR-CALDESC:
X-WR-RELCALID:9844865321499f8ec5966fdfaf8c9a0c
X-WR-TIMEZONE:America/Chicago
BEGIN:VTIMEZONE
TZID:America/Chicago
BEGIN:STANDARD
TZNAME:CST
DTSTART:20211107T020000
TZOFFSETFROM:-0500
TZOFFSETTO:-0600
RDATE:20221106T020000
END:STANDARD
BEGIN:DAYLIGHT
TZNAME:CDT
DTSTART:20220313T020000
TZOFFSETFROM:-0600
TZOFFSETTO:-0500
RDATE:20230312T020000
END:DAYLIGHT
END:VTIMEZONE
BEGIN:VEVENT
UID:f7f29fbe-e313-4242-a120-1737dda03123
DTSTAMP:20260425T011112Z
DESCRIPTION:
DTSTART;TZID=America/Chicago:20220427T000000
DTEND;TZID=America/Chicago:20220427T235900
LOCATION:
SUMMARY:RIFLE & PISTOL RANGES OPEN TO R/P MEMBERS
END:VEVENT
END:VCALENDAR
