BEGIN:VCALENDAR
VERSION:2.0
PRODID:-//lincolnikes.com//NONSGML kigkonsult.se iCalcreator 2.30.10//
CALSCALE:GREGORIAN
METHOD:PUBLISH
UID:5fd396c0-a366-427d-ac9f-865fbc5f5070
X-WR-CALDESC:
X-WR-RELCALID:afc806565d1b1b6615a2000020632ee1
X-WR-TIMEZONE:America/Chicago
BEGIN:VTIMEZONE
TZID:America/Chicago
BEGIN:STANDARD
TZNAME:CST
DTSTART:20211107T020000
TZOFFSETFROM:-0500
TZOFFSETTO:-0600
RDATE:20221106T020000
END:STANDARD
BEGIN:DAYLIGHT
TZNAME:CDT
DTSTART:20220313T020000
TZOFFSETFROM:-0600
TZOFFSETTO:-0500
RDATE:20230312T020000
END:DAYLIGHT
END:VTIMEZONE
BEGIN:VEVENT
UID:8ec5e7cb-fb28-4180-9715-78cbf1235005
DTSTAMP:20260425T011713Z
DESCRIPTION:
DTSTART;TZID=America/Chicago:20220428T153000
DTEND;TZID=America/Chicago:20220428T183000
LOCATION:
SUMMARY:High School Trap Teams Practice (All Traps & Clubhouse)
END:VEVENT
END:VCALENDAR
