BEGIN:VCALENDAR
VERSION:2.0
PRODID:-//lincolnikes.com//NONSGML kigkonsult.se iCalcreator 2.30.10//
CALSCALE:GREGORIAN
METHOD:PUBLISH
UID:abd3fe08-1b00-40fa-af68-961d430602eb
X-WR-CALDESC:
X-WR-RELCALID:64bdc3f47387ea52904e8038844f8f33
X-WR-TIMEZONE:America/Chicago
BEGIN:VTIMEZONE
TZID:America/Chicago
BEGIN:STANDARD
TZNAME:CST
DTSTART:20211107T020000
TZOFFSETFROM:-0500
TZOFFSETTO:-0600
RDATE:20221106T020000
END:STANDARD
BEGIN:DAYLIGHT
TZNAME:CDT
DTSTART:20220313T020000
TZOFFSETFROM:-0600
TZOFFSETTO:-0500
RDATE:20230312T020000
END:DAYLIGHT
END:VTIMEZONE
BEGIN:VEVENT
UID:b4a8b8c6-d161-4616-a323-67921142e0ff
DTSTAMP:20260425T011504Z
DESCRIPTION:
DTSTART;TZID=America/Chicago:20220428T000000
DTEND;TZID=America/Chicago:20220428T235900
LOCATION:
SUMMARY:RIFLE & PISTOL RANGES NOW OPEN TO OUR R/P MEMBERS
END:VEVENT
END:VCALENDAR
