BEGIN:VCALENDAR
VERSION:2.0
PRODID:-//lincolnikes.com//NONSGML kigkonsult.se iCalcreator 2.30.10//
CALSCALE:GREGORIAN
METHOD:PUBLISH
UID:f872d8b4-6a57-476a-8c95-6a7f29eea877
X-WR-CALDESC:
X-WR-RELCALID:8e1e7d8cd60c5265d5eefdea7fbac490
X-WR-TIMEZONE:America/Chicago
BEGIN:VTIMEZONE
TZID:America/Chicago
BEGIN:STANDARD
TZNAME:CST
DTSTART:20211107T020000
TZOFFSETFROM:-0500
TZOFFSETTO:-0600
RDATE:20221106T020000
END:STANDARD
BEGIN:DAYLIGHT
TZNAME:CDT
DTSTART:20220313T020000
TZOFFSETFROM:-0600
TZOFFSETTO:-0500
RDATE:20230312T020000
END:DAYLIGHT
END:VTIMEZONE
BEGIN:VEVENT
UID:2226f056-8972-416c-9653-93c3a74462ae
DTSTAMP:20260425T011503Z
DESCRIPTION:
DTSTART;TZID=America/Chicago:20220430T070000
DTEND;TZID=America/Chicago:20220430T150000
LOCATION:Lincoln Ikes Rifle Ranges 1 & 4
SUMMARY:CANCELED: UML 2-Gun Competition (Ranges 1 & 4) (Zunaibi)
END:VEVENT
END:VCALENDAR
