BEGIN:VCALENDAR
VERSION:2.0
PRODID:-//lincolnikes.com//NONSGML kigkonsult.se iCalcreator 2.30.10//
CALSCALE:GREGORIAN
METHOD:PUBLISH
UID:1b3600ba-2044-4f0a-8746-9eb34d43df55
X-WR-CALDESC:
X-WR-RELCALID:908dccf71616baa27f544b80d468895f
X-WR-TIMEZONE:America/Chicago
BEGIN:VTIMEZONE
TZID:America/Chicago
BEGIN:STANDARD
TZNAME:CST
DTSTART:20211107T020000
TZOFFSETFROM:-0500
TZOFFSETTO:-0600
RDATE:20221106T020000
RDATE:20231105T020000
END:STANDARD
BEGIN:DAYLIGHT
TZNAME:CDT
DTSTART:20220313T020000
TZOFFSETFROM:-0600
TZOFFSETTO:-0500
RDATE:20230312T020000
END:DAYLIGHT
END:VTIMEZONE
BEGIN:VEVENT
UID:47eb0b86-07e2-4a13-8b11-6e3d0f56cdfa
DTSTAMP:20260424T232558Z
DESCRIPTION:
DTSTART;TZID=America/Chicago:20220507T080000
DTEND;TZID=America/Chicago:20220507T140000
LOCATION:
SUMMARY:Club Benchrest 300-Yard (Range 4) (Dewey)
END:VEVENT
END:VCALENDAR
