BEGIN:VCALENDAR
VERSION:2.0
PRODID:-//lincolnikes.com//NONSGML kigkonsult.se iCalcreator 2.30.10//
CALSCALE:GREGORIAN
METHOD:PUBLISH
UID:02ecd9ee-b571-4751-bf8c-38f4264dfa5a
X-WR-CALDESC:
X-WR-RELCALID:a3280b34d25b24b6015afafc93db7836
X-WR-TIMEZONE:America/Chicago
BEGIN:VTIMEZONE
TZID:America/Chicago
BEGIN:STANDARD
TZNAME:CST
DTSTART:20211107T020000
TZOFFSETFROM:-0500
TZOFFSETTO:-0600
RDATE:20221106T020000
RDATE:20231105T020000
END:STANDARD
BEGIN:DAYLIGHT
TZNAME:CDT
DTSTART:20220313T020000
TZOFFSETFROM:-0600
TZOFFSETTO:-0500
RDATE:20230312T020000
END:DAYLIGHT
END:VTIMEZONE
BEGIN:VEVENT
UID:ef6be152-5122-4a8c-ae8c-2954a8fdfd18
DTSTAMP:20260424T233154Z
DESCRIPTION:
DTSTART;TZID=America/Chicago:20220510T191500
DTEND;TZID=America/Chicago:20220510T211500
LOCATION:Lincoln Ikes Clubhouse
SUMMARY:Board of Directors Meeting (Clubhouse)
END:VEVENT
END:VCALENDAR
