BEGIN:VCALENDAR
VERSION:2.0
PRODID:-//lincolnikes.com//NONSGML kigkonsult.se iCalcreator 2.30.10//
CALSCALE:GREGORIAN
METHOD:PUBLISH
UID:182fe3f3-b088-44a6-8100-9056920c7f5c
X-WR-CALDESC:*Range 4 is only open to our members during these special sche
 duled times.
X-WR-RELCALID:789f82a63defc843e4db6c4de7bb901f
X-WR-TIMEZONE:America/Chicago
BEGIN:VTIMEZONE
TZID:America/Chicago
BEGIN:STANDARD
TZNAME:CST
DTSTART:20211107T020000
TZOFFSETFROM:-0500
TZOFFSETTO:-0600
RDATE:20221106T020000
RDATE:20231105T020000
END:STANDARD
BEGIN:DAYLIGHT
TZNAME:CDT
DTSTART:20220313T020000
TZOFFSETFROM:-0600
TZOFFSETTO:-0500
RDATE:20230312T020000
END:DAYLIGHT
END:VTIMEZONE
BEGIN:VEVENT
UID:dce7491f-b824-4e04-bd6b-b6979539ce01
DTSTAMP:20260424T232326Z
DESCRIPTION:*Range 4 is only open to our members during these special sched
 uled times.
DTSTART;TZID=America/Chicago:20220511T130000
DTEND;TZID=America/Chicago:20220511T160000
LOCATION:Lincoln Ikes Rifle Range 4
SUMMARY:Members 300-Yard Range Practice (Range 4) (Hanson)
END:VEVENT
END:VCALENDAR
