BEGIN:VCALENDAR
VERSION:2.0
PRODID:-//lincolnikes.com//NONSGML kigkonsult.se iCalcreator 2.30.10//
CALSCALE:GREGORIAN
METHOD:PUBLISH
UID:59d0df11-a6ab-4f97-aed8-e115898a85ed
X-WR-CALDESC:
X-WR-RELCALID:460ec6baecec5f25000da528c9135032
X-WR-TIMEZONE:America/Chicago
BEGIN:VTIMEZONE
TZID:America/Chicago
BEGIN:STANDARD
TZNAME:CST
DTSTART:20211107T020000
TZOFFSETFROM:-0500
TZOFFSETTO:-0600
RDATE:20221106T020000
RDATE:20231105T020000
END:STANDARD
BEGIN:DAYLIGHT
TZNAME:CDT
DTSTART:20220313T020000
TZOFFSETFROM:-0600
TZOFFSETTO:-0500
RDATE:20230312T020000
END:DAYLIGHT
END:VTIMEZONE
BEGIN:VEVENT
UID:a4ebb483-e580-4bad-95a2-ca4693a20407
DTSTAMP:20260424T232435Z
DESCRIPTION:
DTSTART;TZID=America/Chicago:20220514T090000
DTEND;TZID=America/Chicago:20220514T110000
LOCATION:Lincoln Ikes Rifle Range 4
SUMMARY:CMP Rimfire Sporter Rifle (Range 4) (Lesiak)
END:VEVENT
END:VCALENDAR
