BEGIN:VCALENDAR
VERSION:2.0
PRODID:-//lincolnikes.com//NONSGML kigkonsult.se iCalcreator 2.30.10//
CALSCALE:GREGORIAN
METHOD:PUBLISH
UID:0bc08108-7cc5-4427-ad2a-92eb23d022c8
X-WR-CALDESC:
X-WR-RELCALID:a3e339f9d6c98f100489ad6ab273ece6
X-WR-TIMEZONE:America/Chicago
BEGIN:VTIMEZONE
TZID:America/Chicago
BEGIN:STANDARD
TZNAME:CST
DTSTART:20211107T020000
TZOFFSETFROM:-0500
TZOFFSETTO:-0600
RDATE:20221106T020000
RDATE:20231105T020000
END:STANDARD
BEGIN:DAYLIGHT
TZNAME:CDT
DTSTART:20220313T020000
TZOFFSETFROM:-0600
TZOFFSETTO:-0500
RDATE:20230312T020000
END:DAYLIGHT
END:VTIMEZONE
BEGIN:VEVENT
UID:1de3fd95-cf66-4d61-a2ad-afb501537380
DTSTAMP:20260423T030042Z
DESCRIPTION:
DTSTART;TZID=America/Chicago:20220514T000000
DTEND;TZID=America/Chicago:20220514T235900
LOCATION:Lincoln Ikes Trap Range & Clubhouse
SUMMARY:Lincoln Ikes May ATA Trap Shoot (All Traps & Clubhouse)
END:VEVENT
END:VCALENDAR
