BEGIN:VCALENDAR
VERSION:2.0
PRODID:-//lincolnikes.com//NONSGML kigkonsult.se iCalcreator 2.30.10//
CALSCALE:GREGORIAN
METHOD:PUBLISH
UID:896d902b-d5d4-451c-bd3d-7be4ea344ea3
X-WR-CALDESC:See attached flyer for more information.
X-WR-RELCALID:308219e4a1e4cb3a7ad3516d1d06b018
X-WR-TIMEZONE:America/Chicago
BEGIN:VTIMEZONE
TZID:America/Chicago
BEGIN:STANDARD
TZNAME:CST
DTSTART:20211107T020000
TZOFFSETFROM:-0500
TZOFFSETTO:-0600
RDATE:20221106T020000
RDATE:20231105T020000
END:STANDARD
BEGIN:DAYLIGHT
TZNAME:CDT
DTSTART:20220313T020000
TZOFFSETFROM:-0600
TZOFFSETTO:-0500
RDATE:20230312T020000
END:DAYLIGHT
END:VTIMEZONE
BEGIN:VEVENT
UID:9fe117d5-f100-4919-918e-4d2f191f595c
DTSTAMP:20260424T233122Z
DESCRIPTION:See attached flyer for more information.
DTSTART;TZID=America/Chicago:20220523T180000
DTEND;TZID=America/Chicago:20220523T200000
LOCATION:Lincoln Ikes Clubhouse & Trap Range
SUMMARY:Youth Summer Trap League (Clubhouse & 3 Traps)
END:VEVENT
END:VCALENDAR
