BEGIN:VCALENDAR
VERSION:2.0
PRODID:-//lincolnikes.com//NONSGML kigkonsult.se iCalcreator 2.30.10//
CALSCALE:GREGORIAN
METHOD:PUBLISH
UID:e79cee65-6299-4d57-84ef-2a4c4c8e8da1
X-WR-CALDESC:Thursdays\, May 19th to August 25th\nFor more information\, se
 e attached flyer
X-WR-RELCALID:308f695c2ef759dadcd859327d02acdd
X-WR-TIMEZONE:America/Chicago
BEGIN:VTIMEZONE
TZID:America/Chicago
BEGIN:STANDARD
TZNAME:CST
DTSTART:20211107T020000
TZOFFSETFROM:-0500
TZOFFSETTO:-0600
RDATE:20221106T020000
RDATE:20231105T020000
END:STANDARD
BEGIN:DAYLIGHT
TZNAME:CDT
DTSTART:20220313T020000
TZOFFSETFROM:-0600
TZOFFSETTO:-0500
RDATE:20230312T020000
END:DAYLIGHT
END:VTIMEZONE
BEGIN:VEVENT
UID:0e05ea30-7c54-40a2-8ddb-7f68306b746f
DTSTAMP:20260424T232731Z
DESCRIPTION:Thursdays\, May 19th to August 25th\nFor more information\, see
  attached flyer
DTSTART;TZID=America/Chicago:20220526T180000
DTEND;TZID=America/Chicago:20220526T200000
LOCATION:Lincoln Ikes Rifle Range 4
SUMMARY:.22 Youth Silhouettes (Range 4)
END:VEVENT
END:VCALENDAR
