BEGIN:VCALENDAR
VERSION:2.0
PRODID:-//lincolnikes.com//NONSGML kigkonsult.se iCalcreator 2.30.10//
CALSCALE:GREGORIAN
METHOD:PUBLISH
UID:a36e1ac7-88a4-492d-be52-abaae0881056
X-WR-CALDESC:
X-WR-RELCALID:5192f39582814dc0059e83719cafe608
X-WR-TIMEZONE:America/Chicago
BEGIN:VTIMEZONE
TZID:America/Chicago
BEGIN:STANDARD
TZNAME:CST
DTSTART:20211107T020000
TZOFFSETFROM:-0500
TZOFFSETTO:-0600
RDATE:20221106T020000
RDATE:20231105T020000
END:STANDARD
BEGIN:DAYLIGHT
TZNAME:CDT
DTSTART:20220313T020000
TZOFFSETFROM:-0600
TZOFFSETTO:-0500
RDATE:20230312T020000
END:DAYLIGHT
END:VTIMEZONE
BEGIN:VEVENT
UID:dbb20e59-5f48-497a-84e3-fa1a13050900
DTSTAMP:20260424T233025Z
DESCRIPTION:
DTSTART;TZID=America/Chicago:20220526T180000
DTEND;TZID=America/Chicago:20220526T220000
LOCATION:Lincoln Ikes Trap Range & Clubhouse
SUMMARY:Ikes Summer Trap League (All Traps & Clubhouse)
END:VEVENT
END:VCALENDAR
