BEGIN:VCALENDAR
VERSION:2.0
PRODID:-//lincolnikes.com//NONSGML kigkonsult.se iCalcreator 2.30.10//
CALSCALE:GREGORIAN
METHOD:PUBLISH
UID:a8b9ea7b-218b-4cd8-8f08-312933669e47
X-WR-CALDESC:
X-WR-RELCALID:447c9484021f794eced2231d01e38ffe
X-WR-TIMEZONE:America/Chicago
BEGIN:VTIMEZONE
TZID:America/Chicago
BEGIN:STANDARD
TZNAME:CST
DTSTART:20211107T020000
TZOFFSETFROM:-0500
TZOFFSETTO:-0600
RDATE:20221106T020000
RDATE:20231105T020000
END:STANDARD
BEGIN:DAYLIGHT
TZNAME:CDT
DTSTART:20220313T020000
TZOFFSETFROM:-0600
TZOFFSETTO:-0500
RDATE:20230312T020000
END:DAYLIGHT
END:VTIMEZONE
BEGIN:VEVENT
UID:68c029a8-2df4-46f2-8c74-4dd909c3d29f
DTSTAMP:20260425T010738Z
DESCRIPTION:
DTSTART;TZID=America/Chicago:20220610T180000
DTEND;TZID=America/Chicago:20220610T203000
LOCATION:Lincoln Ikes Rifle Range 4
SUMMARY:6:00pm - Sunset: Bowling Pin Match (Range 4)
END:VEVENT
END:VCALENDAR
