BEGIN:VCALENDAR
VERSION:2.0
PRODID:-//lincolnikes.com//NONSGML kigkonsult.se iCalcreator 2.30.10//
CALSCALE:GREGORIAN
METHOD:PUBLISH
UID:bffd9f62-73d8-44bd-bf9b-34969b69dd40
X-WR-CALDESC:
X-WR-RELCALID:f78ceda703413715450d4c0efad9a647
X-WR-TIMEZONE:America/Chicago
BEGIN:VTIMEZONE
TZID:America/Chicago
BEGIN:STANDARD
TZNAME:CST
DTSTART:20211107T020000
TZOFFSETFROM:-0500
TZOFFSETTO:-0600
RDATE:20221106T020000
RDATE:20231105T020000
END:STANDARD
BEGIN:DAYLIGHT
TZNAME:CDT
DTSTART:20220313T020000
TZOFFSETFROM:-0600
TZOFFSETTO:-0500
RDATE:20230312T020000
END:DAYLIGHT
END:VTIMEZONE
BEGIN:VEVENT
UID:89504d07-7c99-4754-b67c-4a8d202ee657
DTSTAMP:20260421T072819Z
DESCRIPTION:
DTSTART;TZID=America/Chicago:20220611T090000
DTEND;TZID=America/Chicago:20220611T110000
LOCATION:Lincoln Ikes Rifle Range 4
SUMMARY:CMP Rimfire Sporter Rifle (Range 2) (Lesiak)
END:VEVENT
END:VCALENDAR
