BEGIN:VCALENDAR
VERSION:2.0
PRODID:-//lincolnikes.com//NONSGML kigkonsult.se iCalcreator 2.30.10//
CALSCALE:GREGORIAN
METHOD:PUBLISH
UID:9482b213-040c-4e48-a182-715b4cb7d820
X-WR-CALDESC:Due to the limit of 60 participants pre-registration is requir
 ed. Check-in begins at 8:30AM \nFISHING\nSHOOTING \nARCHERY \nOpen to chil
 dren ages 10-18 and must be accompanied by a parent or guardian \n\nEQUIPM
 ENT & LUNCH PROVIDED \n\nNebraska State Rules do apply: students age 16+ m
 ust have a valid fishing license. \n\nTO REGISTER:  www.register-ed.com/ev
 ents/view/180102\n\nTHIS IS A FREE EVENT!!!
X-WR-RELCALID:ab509bd8a7441d0c71f41404b9179117
X-WR-TIMEZONE:America/Chicago
BEGIN:VTIMEZONE
TZID:America/Chicago
BEGIN:STANDARD
TZNAME:CST
DTSTART:20211107T020000
TZOFFSETFROM:-0500
TZOFFSETTO:-0600
RDATE:20221106T020000
RDATE:20231105T020000
END:STANDARD
BEGIN:DAYLIGHT
TZNAME:CDT
DTSTART:20220313T020000
TZOFFSETFROM:-0600
TZOFFSETTO:-0500
RDATE:20230312T020000
END:DAYLIGHT
END:VTIMEZONE
BEGIN:VEVENT
UID:94af6254-253c-4f74-a690-1ad720246dc6
DTSTAMP:20260425T011503Z
DESCRIPTION:Due to the limit of 60 participants pre-registration is require
 d. Check-in begins at 8:30AM \nFISHING\nSHOOTING \nARCHERY \nOpen to child
 ren ages 10-18 and must be accompanied by a parent or guardian \n\nEQUIPME
 NT & LUNCH PROVIDED \n\nNebraska State Rules do apply: students age 16+ mu
 st have a valid fishing license. \n\nTO REGISTER:  www.register-ed.com/eve
 nts/view/180102\n\nTHIS IS A FREE EVENT!!!
DTSTART;TZID=America/Chicago:20220611T083000
DTEND;TZID=America/Chicago:20220611T140000
LOCATION:
SUMMARY:Ikes Youth Day (Clubhouse\, Archery\, Range\, Traps 6-7\, Rifle Ran
 ge 4\, & Pond)
END:VEVENT
END:VCALENDAR
