BEGIN:VCALENDAR
VERSION:2.0
PRODID:-//lincolnikes.com//NONSGML kigkonsult.se iCalcreator 2.30.10//
CALSCALE:GREGORIAN
METHOD:PUBLISH
UID:78e3507a-19d1-4276-8ba6-537d8aaf28c8
X-WR-CALDESC:See attached flyer for more information.
X-WR-RELCALID:b2ba40c2fc79ad1f74c4e659d996988f
X-WR-TIMEZONE:America/Chicago
BEGIN:VTIMEZONE
TZID:America/Chicago
BEGIN:STANDARD
TZNAME:CST
DTSTART:20211107T020000
TZOFFSETFROM:-0500
TZOFFSETTO:-0600
RDATE:20221106T020000
RDATE:20231105T020000
END:STANDARD
BEGIN:DAYLIGHT
TZNAME:CDT
DTSTART:20220313T020000
TZOFFSETFROM:-0600
TZOFFSETTO:-0500
RDATE:20230312T020000
END:DAYLIGHT
END:VTIMEZONE
BEGIN:VEVENT
UID:9032645d-d7fc-4e29-988b-05d195666de7
DTSTAMP:20260425T011830Z
DESCRIPTION:See attached flyer for more information.
DTSTART;TZID=America/Chicago:20220613T180000
DTEND;TZID=America/Chicago:20220613T200000
LOCATION:Lincoln Ikes Clubhouse & Trap Range
SUMMARY:Youth Summer Trap League (Clubhouse & 3 Traps)
END:VEVENT
END:VCALENDAR
