BEGIN:VCALENDAR
VERSION:2.0
PRODID:-//lincolnikes.com//NONSGML kigkonsult.se iCalcreator 2.30.10//
CALSCALE:GREGORIAN
METHOD:PUBLISH
UID:fe373725-0575-478c-9c9c-572808f85a61
X-WR-CALDESC:
X-WR-RELCALID:afc8ea8ec25fa76dbc53fd54a9c00781
X-WR-TIMEZONE:America/Chicago
BEGIN:VTIMEZONE
TZID:America/Chicago
BEGIN:STANDARD
TZNAME:CST
DTSTART:20211107T020000
TZOFFSETFROM:-0500
TZOFFSETTO:-0600
RDATE:20221106T020000
RDATE:20231105T020000
END:STANDARD
BEGIN:DAYLIGHT
TZNAME:CDT
DTSTART:20220313T020000
TZOFFSETFROM:-0600
TZOFFSETTO:-0500
RDATE:20230312T020000
END:DAYLIGHT
END:VTIMEZONE
BEGIN:VEVENT
UID:5556f2fc-b099-4587-bf0c-a7bbfc21a4d4
DTSTAMP:20260420T024312Z
DESCRIPTION:
DTSTART;TZID=America/Chicago:20220614T173000
DTEND;TZID=America/Chicago:20220614T203000
LOCATION:
SUMMARY:5:30-8:30p: Members 300-Yard Range Practice (Range 4 - Bertram)
END:VEVENT
END:VCALENDAR
