BEGIN:VCALENDAR
VERSION:2.0
PRODID:-//lincolnikes.com//NONSGML kigkonsult.se iCalcreator 2.30.10//
CALSCALE:GREGORIAN
METHOD:PUBLISH
UID:3c4da481-6e4e-4906-9bed-8fec04b18736
X-WR-CALDESC:
X-WR-RELCALID:66c19e76a8dfb686d91e359a5b7cf02d
X-WR-TIMEZONE:America/Chicago
BEGIN:VTIMEZONE
TZID:America/Chicago
BEGIN:STANDARD
TZNAME:CST
DTSTART:20211107T020000
TZOFFSETFROM:-0500
TZOFFSETTO:-0600
RDATE:20221106T020000
RDATE:20231105T020000
END:STANDARD
BEGIN:DAYLIGHT
TZNAME:CDT
DTSTART:20220313T020000
TZOFFSETFROM:-0600
TZOFFSETTO:-0500
RDATE:20230312T020000
END:DAYLIGHT
END:VTIMEZONE
BEGIN:VEVENT
UID:3e0b6f0a-e0b3-44ec-a451-de578e0ce2c4
DTSTAMP:20260425T012458Z
DESCRIPTION:
DTSTART;TZID=America/Chicago:20220614T183000
DTEND;TZID=America/Chicago:20220614T191500
LOCATION:
SUMMARY:Corporate Board of Directors Meeting (Clubhouse)
END:VEVENT
END:VCALENDAR
