BEGIN:VCALENDAR
VERSION:2.0
PRODID:-//lincolnikes.com//NONSGML kigkonsult.se iCalcreator 2.30.10//
CALSCALE:GREGORIAN
METHOD:PUBLISH
UID:66e393dd-a3b3-4118-9fad-1d7cefd469ae
X-WR-CALDESC:Thursdays\, May 19th to August 25th\nFor more information\, se
 e attached flyer
X-WR-RELCALID:e27622867672c51f1eeca584c7598676
X-WR-TIMEZONE:America/Chicago
BEGIN:VTIMEZONE
TZID:America/Chicago
BEGIN:STANDARD
TZNAME:CST
DTSTART:20211107T020000
TZOFFSETFROM:-0500
TZOFFSETTO:-0600
RDATE:20221106T020000
RDATE:20231105T020000
END:STANDARD
BEGIN:DAYLIGHT
TZNAME:CDT
DTSTART:20220313T020000
TZOFFSETFROM:-0600
TZOFFSETTO:-0500
RDATE:20230312T020000
END:DAYLIGHT
END:VTIMEZONE
BEGIN:VEVENT
UID:4f8e367a-05f0-4501-81d8-1486afa93d69
DTSTAMP:20260420T222917Z
DESCRIPTION:Thursdays\, May 19th to August 25th\nFor more information\, see
  attached flyer
DTSTART;TZID=America/Chicago:20220616T180000
DTEND;TZID=America/Chicago:20220616T200000
LOCATION:Lincoln Ikes Rifle Range 4
SUMMARY:.22 Youth Silhouettes (Range 4)
END:VEVENT
END:VCALENDAR
