BEGIN:VCALENDAR
VERSION:2.0
PRODID:-//lincolnikes.com//NONSGML kigkonsult.se iCalcreator 2.30.10//
CALSCALE:GREGORIAN
METHOD:PUBLISH
UID:d4e16da6-1fb7-4ebd-9bec-473b4a1453cd
X-WR-CALDESC:
X-WR-RELCALID:aa5651860098afcec7bbe6388725d128
X-WR-TIMEZONE:America/Chicago
BEGIN:VTIMEZONE
TZID:America/Chicago
BEGIN:STANDARD
TZNAME:CST
DTSTART:20211107T020000
TZOFFSETFROM:-0500
TZOFFSETTO:-0600
RDATE:20221106T020000
RDATE:20231105T020000
END:STANDARD
BEGIN:DAYLIGHT
TZNAME:CDT
DTSTART:20220313T020000
TZOFFSETFROM:-0600
TZOFFSETTO:-0500
RDATE:20230312T020000
END:DAYLIGHT
END:VTIMEZONE
BEGIN:VEVENT
UID:2edb93dd-2ddb-47bd-b8a2-76f7600473eb
DTSTAMP:20260425T011111Z
DESCRIPTION:
DTSTART;TZID=America/Chicago:20220619T080000
DTEND;TZID=America/Chicago:20220619T160000
LOCATION:
SUMMARY:8a-1p: IHMSA Handgun (Range 4) (Mundorf)
END:VEVENT
END:VCALENDAR
