BEGIN:VCALENDAR
VERSION:2.0
PRODID:-//lincolnikes.com//NONSGML kigkonsult.se iCalcreator 2.30.10//
CALSCALE:GREGORIAN
METHOD:PUBLISH
UID:6e6291d3-4978-404b-86fe-7aa9c424cace
X-WR-CALDESC:
X-WR-RELCALID:fb17e1aec3b1c5614a5e57c811dbdfe2
X-WR-TIMEZONE:America/Chicago
BEGIN:VTIMEZONE
TZID:America/Chicago
BEGIN:STANDARD
TZNAME:CST
DTSTART:20211107T020000
TZOFFSETFROM:-0500
TZOFFSETTO:-0600
RDATE:20221106T020000
RDATE:20231105T020000
END:STANDARD
BEGIN:DAYLIGHT
TZNAME:CDT
DTSTART:20220313T020000
TZOFFSETFROM:-0600
TZOFFSETTO:-0500
RDATE:20230312T020000
END:DAYLIGHT
END:VTIMEZONE
BEGIN:VEVENT
UID:805c893d-dc2f-4eff-ad52-d231fe6f81b5
DTSTAMP:20260425T012427Z
DESCRIPTION:
DTSTART;TZID=America/Chicago:20220629T190000
DTEND;TZID=America/Chicago:20220629T200000
LOCATION:
SUMMARY:POSTPONED DUE TO ILLNESS: Rifle/Pistol Committee Meeting (Clubhouse
 )
END:VEVENT
END:VCALENDAR
